BEGIN:VCALENDAR
VERSION:2.0
PRODID:-//hacksw/handcal//NONSGML v1.0//EN
BEGIN:VEVENT
SUMMARY:EPINAY-VILLEMOISSON HBC - U13 M1
UID:36bc18a4-fe48-4912-860c-0a1bea60a7d3
DTSTART:20260418T130000Z
DTEND:20260418T140000Z
LOCATION:Georges Pompidou 8 rue de Bellevue 91360 Epinay sur Orge
CATEGORIES:Sportif
STATUS:
DESCRIPTION:Rendez-vous 14h15
URL;VALUE=URI:https://www.mfhb91.com/evenements/2026/04/18/epinay-villemoisson-hbc-u13-m1-2429705
END:VEVENT
END:VCALENDAR
