BEGIN:VCALENDAR
VERSION:2.0
PRODID:-//hacksw/handcal//NONSGML v1.0//EN
BEGIN:VEVENT
SUMMARY:Stage Perfectionnement Handball Avril 2026
UID:516e87e6-08fb-407b-84e2-6c74c54387b0
DTSTART:20260420T070000Z
DTEND:20260424T150000Z
LOCATION:GYMNASE RENE ROUSSEAU Allee des Pervenches 91390 Morsang-sur-Orge
CATEGORIES:Stage
STATUS:
DESCRIPTION:<p>Bonjour a tous,</p>
 
 <p>Nous proposons, pour vos
 enfants, un stage de perfectionnement au handball du 20 au 24 Avril
 (1eme semaine des vacances d'Avril)</p>
 
 <p>Ce stage se deroulera de
 09h a 17h et aura pour objectif de travailler sur differents themes
  (defense etagee, attaque rapide, travail specifique aux postes...)
 propices aussi a la cohesion d u groupe, axe primordiale a nos yeux
 de travail pour progresser. </p>
 
 <p>Merci de fournir le dejeuner
 (un micro onde sera sur place si besoin)<br>
 Le gouter sera offert
 par le club du MFGH.</p>
 
 <p><strong>Le stage se deroulera au gymnase
 Rene ROUSSEAU</strong></p>
 
 <p>CHANGEMENT sur le tarif prevu
 :<br>
 15€/jour, avec une possibilite de moduler le nombre de jours
 souhaites.</p>
 
 <p>REDUCTIONS : 5€ pour la semaine entiere, 5€ si
 fratrie (par enfant)</p>
 
 <p>Le stage sera encadre par des membres du
 club du MFGH.</p>
URL;VALUE=URI:https://www.mfhb91.com/evenements/2026/04/20/stage-perfectionnement-handball-avril-2026-2439234
END:VEVENT
END:VCALENDAR
