BEGIN:VCALENDAR
VERSION:2.0
PRODID:-//hacksw/handcal//NONSGML v1.0//EN
BEGIN:VEVENT
SUMMARY:GIF HBC - U11 1
UID:241c366e-936c-43db-b33d-47c5473af82a
DTSTART:20260509T123000Z
DTEND:20260509T133000Z
LOCATION:Gymnase Gousson Rue des goussons 91190 Gif-sur-Yvette
CATEGORIES:Sportif
STATUS:
DESCRIPTION:Rendez-vous 13h45
URL;VALUE=URI:https://www.mfhb91.com/evenements/2026/05/09/gif-hbc-u11-1-2437441
END:VEVENT
END:VCALENDAR
