BEGIN:VCALENDAR
VERSION:2.0
PRODID:-//hacksw/handcal//NONSGML v1.0//EN
BEGIN:VEVENT
SUMMARY:U13 M1 - E BRUNOY/MONTGERON
UID:93da87c1-a387-498b-bd5d-001b8fbd1255
DTSTART:20260509T120000Z
DTEND:20260509T131500Z
LOCATION:GYMNASE RENE ROUSSEAU Allee des Pervenches 91390 Morsang-sur-Orge
CATEGORIES:Sportif
STATUS:
DESCRIPTION:Rendez-vous 13h15
URL;VALUE=URI:https://www.mfhb91.com/evenements/2026/05/09/u13-m1-e-brunoymontgeron-2431210
END:VEVENT
END:VCALENDAR
