BEGIN:VCALENDAR
VERSION:2.0
PRODID:-//hacksw/handcal//NONSGML v1.0//EN
BEGIN:VEVENT
SUMMARY:U13 M2 - AS ITTEVILLE
UID:364cec8b-1885-47d0-a5b1-7427303b5915
DTSTART:20260509T140000Z
DTEND:20260509T151500Z
LOCATION:GYMNASE RENE ROUSSEAU Allee des Pervenches 91390 Morsang-sur-Orge
CATEGORIES:Sportif
STATUS:
DESCRIPTION:Rendez-vous 15h15
URL;VALUE=URI:https://www.mfhb91.com/evenements/2026/05/09/u13-m2-as-itteville-2431213
END:VEVENT
END:VCALENDAR
