BEGIN:VCALENDAR
VERSION:2.0
PRODID:-//hacksw/handcal//NONSGML v1.0//EN
BEGIN:VEVENT
SUMMARY:U18 F - LIMOURS-ST GERMAIN-EGLY
UID:e7f11e30-77d6-4ab7-b930-41abc74623a8
DTSTART:20260509T140000Z
DTEND:20260509T153000Z
LOCATION:Gymnase du labyrinthe 4 voie Athena 91350 GRIGNY
CATEGORIES:Sportif
STATUS:
DESCRIPTION:Rendez-vous 15h15
URL;VALUE=URI:https://www.mfhb91.com/evenements/2026/05/09/u18-f-limours-st-germain-egly-2439252
END:VEVENT
END:VCALENDAR
