BEGIN:VCALENDAR
VERSION:2.0
PRODID:-//hacksw/handcal//NONSGML v1.0//EN
BEGIN:VEVENT
SUMMARY:AL BRETIGNY - U15 F
UID:e14097f9-6bc1-48b0-8c1b-5bc2041db5d6
DTSTART:20260510T084500Z
DTEND:20260510T100000Z
LOCATION:Gymnase Auguste Delaune Rue Henri Douard, 91220 Bretigny-sur-Orge
CATEGORIES:Sportif
STATUS:
DESCRIPTION:Rendez-vous 10h
URL;VALUE=URI:https://www.mfhb91.com/evenements/2026/05/10/al-bretigny-u15-f-2437443
END:VEVENT
END:VCALENDAR
