BEGIN:VCALENDAR
VERSION:2.0
PRODID:-//hacksw/handcal//NONSGML v1.0//EN
BEGIN:VEVENT
SUMMARY:Tournoi Cancale
UID:ed9c1e50-cfdc-4e6d-aec7-e9247e98ee8f
DTSTART:20260513T110000Z
DTEND:20260516T180000Z
LOCATION:Localisation Stade Municipale  Cancale
CATEGORIES:Stage
STATUS:
DESCRIPTION:<p>Sejour pour les Jeunes des Effectifs -15/-18 Filles et
 -15/-18 Garcons</p>
 
 <p>Depart le Mercredi 13 Mai du Gymnase du
 Labyrinthe a Grigny. Retour le Samedi 16 Mai au meme
 endroit.</p>
 
 <p>Dossier d'inscription en lien </p>
 
 <p>Lien vers le
 site du club hote
 :</p>
 
 <p>https://alcancale-handball.sportsregions.fr/</p>
 
 <p> </p>
 
 <p> </p>
URL;VALUE=URI:https://www.mfhb91.com/evenements/2026/05/13/tournoi-cancale-2432255
END:VEVENT
END:VCALENDAR
