BEGIN:VCALENDAR
VERSION:2.0
PRODID:-//hacksw/handcal//NONSGML v1.0//EN
BEGIN:VEVENT
SUMMARY:U13 M1 - CESSON VERT ST-DENIS HB / HB BRIE 77
UID:cee1ab9e-85fb-4c42-826c-3f9c50db8e8b
DTSTART:20260523T120000Z
DTEND:20260523T140000Z
LOCATION:GYMNASE RENE ROUSSEAU Allee des Pervenches 91390 Morsang-sur-Orge
CATEGORIES:Sportif
STATUS:
DESCRIPTION:Rendez-vous 13h15<div><br></div><div>Adversaires HB BRIE
 77 & CESSON VERT ST DENIS HB</div>
URL;VALUE=URI:https://www.mfhb91.com/evenements/2026/05/23/u13-m1-cesson-vert-st-denis-hb-hb-brie-77-2431215
END:VEVENT
END:VCALENDAR
